BEGIN:VCALENDAR
VERSION:2.0
PRODID:-//Freiwillige Feuerwehr Ottenhof-Bernheck - ECPv6.15.20//NONSGML v1.0//EN
CALSCALE:GREGORIAN
METHOD:PUBLISH
X-ORIGINAL-URL:https://ff-ottenhofbernheck.de
X-WR-CALDESC:Veranstaltungen für Freiwillige Feuerwehr Ottenhof-Bernheck
REFRESH-INTERVAL;VALUE=DURATION:PT1H
X-Robots-Tag:noindex
X-PUBLISHED-TTL:PT1H
BEGIN:VTIMEZONE
TZID:UTC
BEGIN:STANDARD
TZOFFSETFROM:+0000
TZOFFSETTO:+0000
TZNAME:UTC
DTSTART:20250101T000000
END:STANDARD
END:VTIMEZONE
BEGIN:VEVENT
DTSTART;TZID=UTC:20261108T093000
DTEND;TZID=UTC:20261108T113000
DTSTAMP:20260422T215438
CREATED:20260109T162836Z
LAST-MODIFIED:20260109T162836Z
UID:3236-1794130200-1794137400@ff-ottenhofbernheck.de
SUMMARY:Gebäude\, Hydranten\, Fahrzeugpflege
DESCRIPTION:Gebäude\, Hydranten\, Fahrzeugpflege
URL:https://ff-ottenhofbernheck.de/events/gebaeude-hydranten-fahrzeugpflege-2/
LOCATION:Gerätehaus\, Freiwillige Feuerwehr Ottenhof - Bernheck\, Ottenhof\, Bayern\, 91287\, Germany
CATEGORIES:Aktive - Wehr,Atemschutz
END:VEVENT
BEGIN:VEVENT
DTSTART;TZID=UTC:20261115T090000
DTEND;TZID=UTC:20261115T110000
DTSTAMP:20260422T215438
CREATED:20260109T162926Z
LAST-MODIFIED:20260109T162926Z
UID:3238-1794733200-1794740400@ff-ottenhofbernheck.de
SUMMARY:Kirchgang Volkstrauertag
DESCRIPTION:Kirchgang Volkstrauertag
URL:https://ff-ottenhofbernheck.de/events/kirchgang-volkstrauertag/
LOCATION:Bayern
CATEGORIES:Aktive - Wehr,Atemschutz,Verein
END:VEVENT
END:VCALENDAR