BEGIN:VCALENDAR
VERSION:2.0
PRODID:-//Freiwillige Feuerwehr Ottenhof-Bernheck - ECPv6.15.20//NONSGML v1.0//EN
CALSCALE:GREGORIAN
METHOD:PUBLISH
X-ORIGINAL-URL:https://ff-ottenhofbernheck.de
X-WR-CALDESC:Veranstaltungen für Freiwillige Feuerwehr Ottenhof-Bernheck
REFRESH-INTERVAL;VALUE=DURATION:PT1H
X-Robots-Tag:noindex
X-PUBLISHED-TTL:PT1H
BEGIN:VTIMEZONE
TZID:UTC
BEGIN:STANDARD
TZOFFSETFROM:+0000
TZOFFSETTO:+0000
TZNAME:UTC
DTSTART:20250101T000000
END:STANDARD
END:VTIMEZONE
BEGIN:VEVENT
DTSTART;VALUE=DATE:20260606
DTEND;VALUE=DATE:20260608
DTSTAMP:20260422T153847
CREATED:20260109T161756Z
LAST-MODIFIED:20260109T161756Z
UID:3216-1780704000-1780876799@ff-ottenhofbernheck.de
SUMMARY:140-Jahre Jubiläum
DESCRIPTION:140-Jähriges Jubiläum der FF Ottenhof – Bernheck
URL:https://ff-ottenhofbernheck.de/events/140-jahre-jubilaeum/
LOCATION:Gerätehaus\, Freiwillige Feuerwehr Ottenhof - Bernheck\, Ottenhof\, Bayern\, 91287\, Germany
CATEGORIES:Aktive - Wehr,Atemschutz,Jugendfeuerwehr,Verein
END:VEVENT
BEGIN:VEVENT
DTSTART;TZID=UTC:20260610T190000
DTEND;TZID=UTC:20260610T210000
DTSTAMP:20260422T153847
CREATED:20260109T161847Z
LAST-MODIFIED:20260109T161847Z
UID:3218-1781118000-1781125200@ff-ottenhofbernheck.de
SUMMARY:Gruppe 1 Übung
DESCRIPTION:Übung der Gruppe 1
URL:https://ff-ottenhofbernheck.de/events/gruppe-1-uebung-6/
LOCATION:Gerätehaus\, Freiwillige Feuerwehr Ottenhof - Bernheck\, Ottenhof\, Bayern\, 91287\, Germany
CATEGORIES:Aktive - Wehr,Atemschutz
END:VEVENT
BEGIN:VEVENT
DTSTART;TZID=UTC:20260613T190000
DTEND;TZID=UTC:20260613T210000
DTSTAMP:20260422T153847
CREATED:20260109T161929Z
LAST-MODIFIED:20260109T161947Z
UID:3220-1781377200-1781384400@ff-ottenhofbernheck.de
SUMMARY:Gruppe 2 Übung
DESCRIPTION:Übung der Gruppe 2
URL:https://ff-ottenhofbernheck.de/events/gruppe-2-uebung-5/
LOCATION:Gerätehaus\, Freiwillige Feuerwehr Ottenhof - Bernheck\, Ottenhof\, Bayern\, 91287\, Germany
CATEGORIES:Aktive - Wehr,Atemschutz
END:VEVENT
END:VCALENDAR