BEGIN:VCALENDAR
VERSION:2.0
PRODID:-//Freiwillige Feuerwehr Ottenhof-Bernheck - ECPv6.15.20//NONSGML v1.0//EN
CALSCALE:GREGORIAN
METHOD:PUBLISH
X-WR-CALNAME:Freiwillige Feuerwehr Ottenhof-Bernheck
X-ORIGINAL-URL:https://ff-ottenhofbernheck.de
X-WR-CALDESC:Veranstaltungen für Freiwillige Feuerwehr Ottenhof-Bernheck
REFRESH-INTERVAL;VALUE=DURATION:PT1H
X-Robots-Tag:noindex
X-PUBLISHED-TTL:PT1H
BEGIN:VTIMEZONE
TZID:UTC
BEGIN:STANDARD
TZOFFSETFROM:+0000
TZOFFSETTO:+0000
TZNAME:UTC
DTSTART:20240101T000000
END:STANDARD
END:VTIMEZONE
BEGIN:VTIMEZONE
TZID:Europe/Paris
BEGIN:DAYLIGHT
TZOFFSETFROM:+0100
TZOFFSETTO:+0200
TZNAME:CEST
DTSTART:20240331T010000
END:DAYLIGHT
BEGIN:STANDARD
TZOFFSETFROM:+0200
TZOFFSETTO:+0100
TZNAME:CET
DTSTART:20241027T010000
END:STANDARD
BEGIN:DAYLIGHT
TZOFFSETFROM:+0100
TZOFFSETTO:+0200
TZNAME:CEST
DTSTART:20250330T010000
END:DAYLIGHT
BEGIN:STANDARD
TZOFFSETFROM:+0200
TZOFFSETTO:+0100
TZNAME:CET
DTSTART:20251026T010000
END:STANDARD
BEGIN:DAYLIGHT
TZOFFSETFROM:+0100
TZOFFSETTO:+0200
TZNAME:CEST
DTSTART:20260329T010000
END:DAYLIGHT
BEGIN:STANDARD
TZOFFSETFROM:+0200
TZOFFSETTO:+0100
TZNAME:CET
DTSTART:20261025T010000
END:STANDARD
END:VTIMEZONE
BEGIN:VEVENT
DTSTART;VALUE=DATE:20250510
DTEND;VALUE=DATE:20250511
DTSTAMP:20260423T020501
CREATED:20250209T104406Z
LAST-MODIFIED:20250209T104406Z
UID:2062-1746835200-1746921599@ff-ottenhofbernheck.de
SUMMARY:Jugendleistungsmarsch
DESCRIPTION:Jugendleistungmarsch Inspektion III in Büchenbach am 10.05.2025
URL:https://ff-ottenhofbernheck.de/events/jugendleistungsmarsch/
LOCATION:Bayern
CATEGORIES:Jugendfeuerwehr
END:VEVENT
BEGIN:VEVENT
DTSTART;TZID=Europe/Paris:20250510T160000
DTEND;TZID=Europe/Paris:20250510T173000
DTSTAMP:20260423T020501
CREATED:20241224T145604Z
LAST-MODIFIED:20250111T084620Z
UID:1536-1746892800-1746898200@ff-ottenhofbernheck.de
SUMMARY:Kinderfeuerwehr
DESCRIPTION:Üben für die Olympiade
URL:https://ff-ottenhofbernheck.de/events/kinderfeuerwehr-3/
LOCATION:Gerätehaus\, Freiwillige Feuerwehr Ottenhof - Bernheck\, Ottenhof\, Bayern\, 91287\, Germany
CATEGORIES:Kinderfeuerwehr
END:VEVENT
BEGIN:VEVENT
DTSTART;TZID=Europe/Paris:20250516T173000
DTEND;TZID=Europe/Paris:20250516T200000
DTSTAMP:20260423T020501
CREATED:20250105T102201Z
LAST-MODIFIED:20250503T105546Z
UID:1916-1747416600-1747425600@ff-ottenhofbernheck.de
SUMMARY:Übung mit Plech\, Höfen\, Neuhaus
DESCRIPTION:Übung mit Plech\,Höfen\,Neuhaus am 16.05.25 um 17:30
URL:https://ff-ottenhofbernheck.de/events/uebung-mit-plechhoefenneuhaus/
LOCATION:Bayern
CATEGORIES:Aktive - Wehr,Atemschutz
END:VEVENT
BEGIN:VEVENT
DTSTART;TZID=Europe/Paris:20250521T190000
DTEND;TZID=Europe/Paris:20250521T210000
DTSTAMP:20260423T020501
CREATED:20250105T101659Z
LAST-MODIFIED:20250111T084626Z
UID:1910-1747854000-1747861200@ff-ottenhofbernheck.de
SUMMARY:Gruppe 1 Übung
DESCRIPTION:Übung Gruppe 1 am 21.05.2024 um 19:00
URL:https://ff-ottenhofbernheck.de/events/gruppe-1-uebung/
LOCATION:Gerätehaus\, Freiwillige Feuerwehr Ottenhof - Bernheck\, Ottenhof\, Bayern\, 91287\, Germany
CATEGORIES:Aktive - Wehr,Atemschutz
END:VEVENT
BEGIN:VEVENT
DTSTART;TZID=Europe/Paris:20250524T160000
DTEND;TZID=Europe/Paris:20250524T173000
DTSTAMP:20260423T020501
CREATED:20241224T145737Z
LAST-MODIFIED:20250111T084630Z
UID:1538-1748102400-1748107800@ff-ottenhofbernheck.de
SUMMARY:Kinderfeuerwehr
DESCRIPTION:Üben für die Olympiade
URL:https://ff-ottenhofbernheck.de/events/kinderfeuerwehr-4/
LOCATION:Gerätehaus\, Freiwillige Feuerwehr Ottenhof - Bernheck\, Ottenhof\, Bayern\, 91287\, Germany
CATEGORIES:Kinderfeuerwehr
END:VEVENT
BEGIN:VEVENT
DTSTART;TZID=Europe/Paris:20250524T190000
DTEND;TZID=Europe/Paris:20250524T210000
DTSTAMP:20260423T020501
CREATED:20250105T101759Z
LAST-MODIFIED:20250111T084634Z
UID:1912-1748113200-1748120400@ff-ottenhofbernheck.de
SUMMARY:Gruppe 2 Übung
DESCRIPTION:Übung Gruppe 2 am Samstag 24.05.2024 um 19:00
URL:https://ff-ottenhofbernheck.de/events/gruppe-2-uebung/
LOCATION:Gerätehaus\, Freiwillige Feuerwehr Ottenhof - Bernheck\, Ottenhof\, Bayern\, 91287\, Germany
CATEGORIES:Aktive - Wehr,Atemschutz
END:VEVENT
BEGIN:VEVENT
DTSTART;VALUE=DATE:20250531
DTEND;VALUE=DATE:20250601
DTSTAMP:20260423T020501
CREATED:20250209T104522Z
LAST-MODIFIED:20250209T104522Z
UID:2064-1748649600-1748735999@ff-ottenhofbernheck.de
SUMMARY:Erwachsenenleistungsmarsch
DESCRIPTION:Erwachsenenleistungsmarsch am 31.05.2025 in Berg
URL:https://ff-ottenhofbernheck.de/events/erwachsenenleistungsmarsch/
LOCATION:Bayern
CATEGORIES:Aktive - Wehr,Atemschutz
END:VEVENT
END:VCALENDAR