BEGIN:VCALENDAR
VERSION:2.0
PRODID:-//Freiwillige Feuerwehr Ottenhof-Bernheck - ECPv6.15.20//NONSGML v1.0//EN
CALSCALE:GREGORIAN
METHOD:PUBLISH
X-WR-CALNAME:Freiwillige Feuerwehr Ottenhof-Bernheck
X-ORIGINAL-URL:https://ff-ottenhofbernheck.de
X-WR-CALDESC:Veranstaltungen für Freiwillige Feuerwehr Ottenhof-Bernheck
REFRESH-INTERVAL;VALUE=DURATION:PT1H
X-Robots-Tag:noindex
X-PUBLISHED-TTL:PT1H
BEGIN:VTIMEZONE
TZID:UTC
BEGIN:STANDARD
TZOFFSETFROM:+0000
TZOFFSETTO:+0000
TZNAME:UTC
DTSTART:20250101T000000
END:STANDARD
END:VTIMEZONE
BEGIN:VEVENT
DTSTART;TZID=UTC:20260125T093000
DTEND;TZID=UTC:20260125T113000
DTSTAMP:20260422T181757
CREATED:20260109T160905Z
LAST-MODIFIED:20260109T161048Z
UID:3204-1769333400-1769340600@ff-ottenhofbernheck.de
SUMMARY:UVV Feuerwehr
DESCRIPTION:UVV-Schulung der FF Ottenhof – Bernheck
URL:https://ff-ottenhofbernheck.de/events/uvv-feuerwehr/
LOCATION:Gerätehaus\, Freiwillige Feuerwehr Ottenhof - Bernheck\, Ottenhof\, Bayern\, 91287\, Germany
CATEGORIES:Aktive - Wehr,Atemschutz,Jugendfeuerwehr
END:VEVENT
END:VCALENDAR