BEGIN:VCALENDAR
VERSION:2.0
PRODID:-//Freiwillige Feuerwehr Ottenhof-Bernheck - ECPv6.15.20//NONSGML v1.0//EN
CALSCALE:GREGORIAN
METHOD:PUBLISH
X-ORIGINAL-URL:https://ff-ottenhofbernheck.de
X-WR-CALDESC:Veranstaltungen für Freiwillige Feuerwehr Ottenhof-Bernheck
REFRESH-INTERVAL;VALUE=DURATION:PT1H
X-Robots-Tag:noindex
X-PUBLISHED-TTL:PT1H
BEGIN:VTIMEZONE
TZID:Europe/Paris
BEGIN:DAYLIGHT
TZOFFSETFROM:+0100
TZOFFSETTO:+0200
TZNAME:CEST
DTSTART:20240331T010000
END:DAYLIGHT
BEGIN:STANDARD
TZOFFSETFROM:+0200
TZOFFSETTO:+0100
TZNAME:CET
DTSTART:20241027T010000
END:STANDARD
BEGIN:DAYLIGHT
TZOFFSETFROM:+0100
TZOFFSETTO:+0200
TZNAME:CEST
DTSTART:20250330T010000
END:DAYLIGHT
BEGIN:STANDARD
TZOFFSETFROM:+0200
TZOFFSETTO:+0100
TZNAME:CET
DTSTART:20251026T010000
END:STANDARD
BEGIN:DAYLIGHT
TZOFFSETFROM:+0100
TZOFFSETTO:+0200
TZNAME:CEST
DTSTART:20260329T010000
END:DAYLIGHT
BEGIN:STANDARD
TZOFFSETFROM:+0200
TZOFFSETTO:+0100
TZNAME:CET
DTSTART:20261025T010000
END:STANDARD
END:VTIMEZONE
BEGIN:VEVENT
DTSTART;TZID=Europe/Paris:20251201T190000
DTEND;TZID=Europe/Paris:20251201T210000
DTSTAMP:20260422T191751
CREATED:20250105T104251Z
LAST-MODIFIED:20250111T083808Z
UID:1943-1764615600-1764622800@ff-ottenhofbernheck.de
SUMMARY:Zugübung
DESCRIPTION:Zugübung am 01.12.25 um 19:00 in Betzenstein
URL:https://ff-ottenhofbernheck.de/events/zuguebung-3/
LOCATION:Bayern
CATEGORIES:Aktive - Wehr,Atemschutz
END:VEVENT
END:VCALENDAR