BEGIN:VCALENDAR
VERSION:2.0
PRODID:-//Freiwillige Feuerwehr Ottenhof-Bernheck - ECPv6.15.20//NONSGML v1.0//EN
CALSCALE:GREGORIAN
METHOD:PUBLISH
X-WR-CALNAME:Freiwillige Feuerwehr Ottenhof-Bernheck
X-ORIGINAL-URL:https://ff-ottenhofbernheck.de
X-WR-CALDESC:Veranstaltungen für Freiwillige Feuerwehr Ottenhof-Bernheck
REFRESH-INTERVAL;VALUE=DURATION:PT1H
X-Robots-Tag:noindex
X-PUBLISHED-TTL:PT1H
BEGIN:VTIMEZONE
TZID:Europe/Paris
BEGIN:DAYLIGHT
TZOFFSETFROM:+0100
TZOFFSETTO:+0200
TZNAME:CEST
DTSTART:20240331T010000
END:DAYLIGHT
BEGIN:STANDARD
TZOFFSETFROM:+0200
TZOFFSETTO:+0100
TZNAME:CET
DTSTART:20241027T010000
END:STANDARD
BEGIN:DAYLIGHT
TZOFFSETFROM:+0100
TZOFFSETTO:+0200
TZNAME:CEST
DTSTART:20250330T010000
END:DAYLIGHT
BEGIN:STANDARD
TZOFFSETFROM:+0200
TZOFFSETTO:+0100
TZNAME:CET
DTSTART:20251026T010000
END:STANDARD
BEGIN:DAYLIGHT
TZOFFSETFROM:+0100
TZOFFSETTO:+0200
TZNAME:CEST
DTSTART:20260329T010000
END:DAYLIGHT
BEGIN:STANDARD
TZOFFSETFROM:+0200
TZOFFSETTO:+0100
TZNAME:CET
DTSTART:20261025T010000
END:STANDARD
END:VTIMEZONE
BEGIN:VEVENT
DTSTART;TZID=Europe/Paris:20250614T160000
DTEND;TZID=Europe/Paris:20250614T173000
DTSTAMP:20260423T020426
CREATED:20241224T145824Z
LAST-MODIFIED:20250111T084654Z
UID:1540-1749916800-1749922200@ff-ottenhofbernheck.de
SUMMARY:Kinderfeuerwehr
DESCRIPTION:Üben für die Olympiade
URL:https://ff-ottenhofbernheck.de/events/kinderfeuerwehr-5/
LOCATION:Gerätehaus\, Freiwillige Feuerwehr Ottenhof - Bernheck\, Ottenhof\, Bayern\, 91287\, Germany
CATEGORIES:Kinderfeuerwehr
END:VEVENT
BEGIN:VEVENT
DTSTART;TZID=Europe/Paris:20250614T190000
DTEND;TZID=Europe/Paris:20250614T210000
DTSTAMP:20260423T020426
CREATED:20250105T102539Z
LAST-MODIFIED:20250111T084658Z
UID:1920-1749927600-1749934800@ff-ottenhofbernheck.de
SUMMARY:Gruppe 2 Übung
DESCRIPTION:Übung Gruppe 2 am 14.06.25 um 19:00
URL:https://ff-ottenhofbernheck.de/events/gruppe-2-uebung-2/
LOCATION:Gerätehaus\, Freiwillige Feuerwehr Ottenhof - Bernheck\, Ottenhof\, Bayern\, 91287\, Germany
CATEGORIES:Aktive - Wehr,Atemschutz
END:VEVENT
END:VCALENDAR