BEGIN:VCALENDAR
VERSION:2.0
PRODID:-//Freiwillige Feuerwehr Ottenhof-Bernheck - ECPv6.15.20//NONSGML v1.0//EN
CALSCALE:GREGORIAN
METHOD:PUBLISH
X-WR-CALNAME:Freiwillige Feuerwehr Ottenhof-Bernheck
X-ORIGINAL-URL:https://ff-ottenhofbernheck.de
X-WR-CALDESC:Veranstaltungen für Freiwillige Feuerwehr Ottenhof-Bernheck
REFRESH-INTERVAL;VALUE=DURATION:PT1H
X-Robots-Tag:noindex
X-PUBLISHED-TTL:PT1H
BEGIN:VTIMEZONE
TZID:UTC
BEGIN:STANDARD
TZOFFSETFROM:+0000
TZOFFSETTO:+0000
TZNAME:UTC
DTSTART:20240101T000000
END:STANDARD
END:VTIMEZONE
BEGIN:VEVENT
DTSTART;VALUE=DATE:20250531
DTEND;VALUE=DATE:20250601
DTSTAMP:20260423T020426
CREATED:20250209T104522Z
LAST-MODIFIED:20250209T104522Z
UID:2064-1748649600-1748735999@ff-ottenhofbernheck.de
SUMMARY:Erwachsenenleistungsmarsch
DESCRIPTION:Erwachsenenleistungsmarsch am 31.05.2025 in Berg
URL:https://ff-ottenhofbernheck.de/events/erwachsenenleistungsmarsch/
LOCATION:Bayern
CATEGORIES:Aktive - Wehr,Atemschutz
END:VEVENT
END:VCALENDAR